Workbook

Sheet Agenda visitas
A1: ID visita | B1: Fecha | C1: Hora | D1: Comercial | E1: Cliente / empresa | F1: Persona de contacto | G1: Teléfono | H1: Ciudad | I1: Zona comercial | J1: Tipo de visita | K1: Objetivo | L1: Estado | M1: Prioridad | N1: Resultado / notas | O1: Próxima acción | P1: Fecha próxima acción | Q1: Importe potencial (€) | R1: Probabilidad (%) | S1: Venta ponderada (€) | T1: Días hasta la visita | U1: Alerta
A2: V-2026-001 | B2: 46273 | C2: 0.39583333 | D2: Lucía | E2: Grupo Alba S.L. | F2: Elena Ruiz | G2: +34 91 555 12 34 | H2: Madrid | I2: =IF(H2="","",IFERROR(VLOOKUP(H2,'Listas'!$A$2:$B$11,2,FALSE),"Sin asignar")) | J2: Primera visita | K2: Prospección de servicios | L2: Planificada | M2: Alta | N2: Confirmada reunión inicial con dirección. | O2: Preparar dossier comercial | P2: 46274 | Q2: 42000 | R2: 0.65 | S2: =IF(OR(Q2="",R2=""),"",IFERROR(Q2*R2,0)) | T2: =IF(B2="","",IFERROR(B2-TODAY(),"")) | U2: =IF(OR(A2="",B2=""),"",IF(L2="Cancelada","Reprogramar",IF(T2<0,"Visita vencida",IF(T2<=2,"Próxima","Planificada"))))
A3: V-2026-002 | B3: 46274 | C3: 0.45833333 | D3: Martín | E3: TecnoMar Iberia | F3: Carlos Vidal | G3: +34 93 412 56 78 | H3: Barcelona | I3: =IF(H3="","",IFERROR(VLOOKUP(H3,'Listas'!$A$2:$B$11,2,FALSE),"Sin asignar")) | J3: Presentación de propuesta | K3: Presentación de propuesta | L3: Planificada | M3: Alta | N3: Propuesta técnica enviada para revisión. | O3: Confirmar asistentes | P3: 46275 | Q3: 38000 | R3: 0.75 | S3: =IF(OR(Q3="",R3=""),"",IFERROR(Q3*R3,0)) | T3: =IF(B3="","",IFERROR(B3-TODAY(),"")) | U3: =IF(OR(A3="",B3=""),"",IF(L3="Cancelada","Reprogramar",IF(T3<0,"Visita vencida",IF(T3<=2,"Próxima","Planificada"))))
A4: V-2026-003 | B4: 46275 | C4: 0.42708333 | D4: Sofía | E4: Distribuciones Levante | F4: Marta Soler | G4: +34 96 325 41 90 | H4: Valencia | I4: =IF(H4="","",IFERROR(VLOOKUP(H4,'Listas'!$A$2:$B$11,2,FALSE),"Sin asignar")) | J4: Renovación | K4: Renovación de contrato | L4: Realizada | M4: Media | N4: Cliente interesado en ampliar el alcance. | O4: Enviar borrador de renovación | P4: 46277 | Q4: 28500 | R4: 0.8 | S4: =IF(OR(Q4="",R4=""),"",IFERROR(Q4*R4,0)) | T4: =IF(B4="","",IFERROR(B4-TODAY(),"")) | U4: =IF(OR(A4="",B4=""),"",IF(L4="Cancelada","Reprogramar",IF(T4<0,"Visita vencida",IF(T4<=2,"Próxima","Planificada"))))
A5: V-2026-004 | B5: 46277 | C5: 0.5 | D5: Hugo | E5: Soluciones Guadalquivir | F5: Antonio Campos | G5: +34 95 401 29 67 | H5: Sevilla | I5: =IF(H5="","",IFERROR(VLOOKUP(H5,'Listas'!$A$2:$B$11,2,FALSE),"Sin asignar")) | J5: Seguimiento | K5: Prospección de nuevos servicios | L5: Planificada | M5: Media | N5: Pendiente de validar necesidades del equipo. | O5: Llamar para confirmar agenda | P5: 46276 | Q5: 17500 | R5: 0.5 | S5: =IF(OR(Q5="",R5=""),"",IFERROR(Q5*R5,0)) | T5: =IF(B5="","",IFERROR(B5-TODAY(),"")) | U5: =IF(OR(A5="",B5=""),"",IF(L5="Cancelada","Reprogramar",IF(T5<0,"Visita vencida",IF(T5<=2,"Próxima","Planificada"))))
A6: V-2026-005 | B6: 46279 | C6: 0.375 | D6: Marta | E6: Logística Ebro | F6: David Pérez | G6: +34 97 622 18 44 | H6: Zaragoza | I6: =IF(H6="","",IFERROR(VLOOKUP(H6,'Listas'!$A$2:$B$11,2,FALSE),"Sin asignar")) | J6: Renovación | K6: Renovación de contrato | L6: Realizada | M6: Alta | N6: Renovación verbalmente aceptada. | O6: Preparar contrato definitivo | P6: 46280 | Q6: 32000 | R6: 0.9 | S6: =IF(OR(Q6="",R6=""),"",IFERROR(Q6*R6,0)) | T6: =IF(B6="","",IFERROR(B6-TODAY(),"")) | U6: =IF(OR(A6="",B6=""),"",IF(L6="Cancelada","Reprogramar",IF(T6<0,"Visita vencida",IF(T6<=2,"Próxima","Planificada"))))
A7: V-2026-006 | B7: 46282 | C7: 0.6875 | D7: Pablo | E7: Hoteles Costa Azul | F7: Natalia Romero | G7: +34 95 210 37 65 | H7: Málaga | I7: =IF(H7="","",IFERROR(VLOOKUP(H7,'Listas'!$A$2:$B$11,2,FALSE),"Sin asignar")) | J7: Presentación de propuesta | K7: Presentación de propuesta | L7: Planificada | M7: Alta | N7: Se presentará propuesta de servicio integral. | O7: Revisar propuesta económica | P7: 46281 | Q7: 39500 | R7: 0.7 | S7: =IF(OR(Q7="",R7=""),"",IFERROR(Q7*R7,0)) | T7: =IF(B7="","",IFERROR(B7-TODAY(),"")) | U7: =IF(OR(A7="",B7=""),"",IF(L7="Cancelada","Reprogramar",IF(T7<0,"Visita vencida",IF(T7<=2,"Próxima","Planificada"))))
A8: V-2026-007 | B8: 46284 | C8: 0.44791667 | D8: Carmen | E8: Norte Industrial | F8: Iker Moreno | G8: +34 94 488 73 22 | H8: Bilbao | I8: =IF(H8="","",IFERROR(VLOOKUP(H8,'Listas'!$A$2:$B$11,2,FALSE),"Sin asignar")) | J8: Seguimiento | K8: Prospección de servicios | L8: Cancelada | M8: Baja | N8: Cliente solicita retomar la conversación en octubre. | O8: Contactar para nueva fecha | P8: 46288 | Q8: 8500 | R8: 0.3 | S8: =IF(OR(Q8="",R8=""),"",IFERROR(Q8*R8,0)) | T8: =IF(B8="","",IFERROR(B8-TODAY(),"")) | U8: =IF(OR(A8="",B8=""),"",IF(L8="Cancelada","Reprogramar",IF(T8<0,"Visita vencida",IF(T8<=2,"Próxima","Planificada"))))
A9: V-2026-008 | B9: 46287 | C9: 0.47916667 | D9: Javier | E9: AgroCampo S.L. | F9: Beatriz Gil | G9: +34 96 844 09 31 | H9: Murcia | I9: =IF(H9="","",IFERROR(VLOOKUP(H9,'Listas'!$A$2:$B$11,2,FALSE),"Sin asignar")) | J9: Primera visita | K9: Prospección de servicios | L9: Reprogramar | M9: Media | N9: El contacto no estará disponible en la fecha prevista. | O9: Proponer dos alternativas de fecha | P9: 46278 | Q9: 21000 | R9: 0.45 | S9: =IF(OR(Q9="",R9=""),"",IFERROR(Q9*R9,0)) | T9: =IF(B9="","",IFERROR(B9-TODAY(),"")) | U9: =IF(OR(A9="",B9=""),"",IF(L9="Cancelada","Reprogramar",IF(T9<0,"Visita vencida",IF(T9<=2,"Próxima","Planificada"))))
A10: V-2026-009 | B10: 46290 | C10: 0.54166667 | D10: Laura | E10: Mediterránea Retail | F10: Sergio Navarro | G10: +34 96 510 62 88 | H10: Alicante | I10: =IF(H10="","",IFERROR(VLOOKUP(H10,'Listas'!$A$2:$B$11,2,FALSE),"Sin asignar")) | J10: Renovación | K10: Renovación de contrato | L10: Planificada | M10: Media | N10: Revisión anual de condiciones comerciales. | O10: Analizar consumo histórico | P10: 46286 | Q10: 26500 | R10: 0.6 | S10: =IF(OR(Q10="",R10=""),"",IFERROR(Q10*R10,0)) | T10: =IF(B10="","",IFERROR(B10-TODAY(),"")) | U10: =IF(OR(A10="",B10=""),"",IF(L10="Cancelada","Reprogramar",IF(T10<0,"Visita vencida",IF(T10<=2,"Próxima","Planificada"))))
I11: =IF(H11="","",IFERROR(VLOOKUP(H11,'Listas'!$A$2:$B$11,2,FALSE),"Sin asignar")) | S11: =IF(OR(Q11="",R11=""),"",IFERROR(Q11*R11,0)) | T11: =IF(B11="","",IFERROR(B11-TODAY(),"")) | U11: =IF(OR(A11="",B11=""),"",IF(L11="Cancelada","Reprogramar",IF(T11<0,"Visita vencida",IF(T11<=2,"Próxima","Planificada"))))
I12: =IF(H12="","",IFERROR(VLOOKUP(H12,'Listas'!$A$2:$B$11,2,FALSE),"Sin asignar")) | S12: =IF(OR(Q12="",R12=""),"",IFERROR(Q12*R12,0)) | T12: =IF(B12="","",IFERROR(B12-TODAY(),"")) | U12: =IF(OR(A12="",B12=""),"",IF(L12="Cancelada","Reprogramar",IF(T12<0,"Visita vencida",IF(T12<=2,"Próxima","Planificada"))))
I13: =IF(H13="","",IFERROR(VLOOKUP(H13,'Listas'!$A$2:$B$11,2,FALSE),"Sin asignar")) | S13: =IF(OR(Q13="",R13=""),"",IFERROR(Q13*R13,0)) | T13: =IF(B13="","",IFERROR(B13-TODAY(),"")) | U13: =IF(OR(A13="",B13=""),"",IF(L13="Cancelada","Reprogramar",IF(T13<0,"Visita vencida",IF(T13<=2,"Próxima","Planificada"))))
I14: =IF(H14="","",IFERROR(VLOOKUP(H14,'Listas'!$A$2:$B$11,2,FALSE),"Sin asignar")) | S14: =IF(OR(Q14="",R14=""),"",IFERROR(Q14*R14,0)) | T14: =IF(B14="","",IFERROR(B14-TODAY(),"")) | U14: =IF(OR(A14="",B14=""),"",IF(L14="Cancelada","Reprogramar",IF(T14<0,"Visita vencida",IF(T14<=2,"Próxima","Planificada"))))
I15: =IF(H15="","",IFERROR(VLOOKUP(H15,'Listas'!$A$2:$B$11,2,FALSE),"Sin asignar")) | S15: =IF(OR(Q15="",R15=""),"",IFERROR(Q15*R15,0)) | T15: =IF(B15="","",IFERROR(B15-TODAY(),"")) | U15: =IF(OR(A15="",B15=""),"",IF(L15="Cancelada","Reprogramar",IF(T15<0,"Visita vencida",IF(T15<=2,"Próxima","Planificada"))))
I16: =IF(H16="","",IFERROR(VLOOKUP(H16,'Listas'!$A$2:$B$11,2,FALSE),"Sin asignar")) | S16: =IF(OR(Q16="",R16=""),"",IFERROR(Q16*R16,0)) | T16: =IF(B16="","",IFERROR(B16-TODAY(),"")) | U16: =IF(OR(A16="",B16=""),"",IF(L16="Cancelada","Reprogramar",IF(T16<0,"Visita vencida",IF(T16<=2,"Próxima","Planificada"))))
I17: =IF(H17="","",IFERROR(VLOOKUP(H17,'Listas'!$A$2:$B$11,2,FALSE),"Sin asignar")) | S17: =IF(OR(Q17="",R17=""),"",IFERROR(Q17*R17,0)) | T17: =IF(B17="","",IFERROR(B17-TODAY(),"")) | U17: =IF(OR(A17="",B17=""),"",IF(L17="Cancelada","Reprogramar",IF(T17<0,"Visita vencida",IF(T17<=2,"Próxima","Planificada"))))
I18: =IF(H18="","",IFERROR(VLOOKUP(H18,'Listas'!$A$2:$B$11,2,FALSE),"Sin asignar")) | S18: =IF(OR(Q18="",R18=""),"",IFERROR(Q18*R18,0)) | T18: =IF(B18="","",IFERROR(B18-TODAY(),"")) | U18: =IF(OR(A18="",B18=""),"",IF(L18="Cancelada","Reprogramar",IF(T18<0,"Visita vencida",IF(T18<=2,"Próxima","Planificada"))))
I19: =IF(H19="","",IFERROR(VLOOKUP(H19,'Listas'!$A$2:$B$11,2,FALSE),"Sin asignar")) | S19: =IF(OR(Q19="",R19=""),"",IFERROR(Q19*R19,0)) | T19: =IF(B19="","",IFERROR(B19-TODAY(),"")) | U19: =IF(OR(A19="",B19=""),"",IF(L19="Cancelada","Reprogramar",IF(T19<0,"Visita vencida",IF(T19<=2,"Próxima","Planificada"))))
I20: =IF(H20="","",IFERROR(VLOOKUP(H20,'Listas'!$A$2:$B$11,2,FALSE),"Sin asignar")) | S20: =IF(OR(Q20="",R20=""),"",IFERROR(Q20*R20,0)) | T20: =IF(B20="","",IFERROR(B20-TODAY(),"")) | U20: =IF(OR(A20="",B20=""),"",IF(L20="Cancelada","Reprogramar",IF(T20<0,"Visita vencida",IF(T20<=2,"Próxima","Planificada"))))
I21: =IF(H21="","",IFERROR(VLOOKUP(H21,'Listas'!$A$2:$B$11,2,FALSE),"Sin asignar")) | S21: =IF(OR(Q21="",R21=""),"",IFERROR(Q21*R21,0)) | T21: =IF(B21="","",IFERROR(B21-TODAY(),"")) | U21: =IF(OR(A21="",B21=""),"",IF(L21="Cancelada","Reprogramar",IF(T21<0,"Visita vencida",IF(T21<=2,"Próxima","Planificada"))))
I22: =IF(H22="","",IFERROR(VLOOKUP(H22,'Listas'!$A$2:$B$11,2,FALSE),"Sin asignar")) | S22: =IF(OR(Q22="",R22=""),"",IFERROR(Q22*R22,0)) | T22: =IF(B22="","",IFERROR(B22-TODAY(),"")) | U22: =IF(OR(A22="",B22=""),"",IF(L22="Cancelada","Reprogramar",IF(T22<0,"Visita vencida",IF(T22<=2,"Próxima","Planificada"))))
... I101: =IF(H101="","",IFERROR(VLOOKUP(H101,'Listas'!$A$2:$B$11,2,FALSE),"Sin asignar")) | S101: =IF(OR(Q101="",R101=""),"",IFERROR(Q101*R101,0)) | T101: =IF(B101="","",IFERROR(B101-TODAY(),"")) | U101: =IF(OR(A101="",B101=""),"",IF(L101="Cancelada","Reprogramar",IF(T101<0,"Visita vencida",IF(T101<=2,"Próxima","Planificada"))))

Sheet Resumen
A1: Panel ejecutivo de visitas comerciales
A2: Indicadores principales
A3: Indicador | B3: Valor
A4: Total de visitas | B4: =COUNTA('Agenda visitas'!$A$2:$A$101)
A5: Visitas planificadas | B5: =COUNTIF('Agenda visitas'!$L$2:$L$101,"Planificada")
A6: Visitas realizadas | B6: =COUNTIF('Agenda visitas'!$L$2:$L$101,"Realizada")
A7: Visitas pendientes | B7: =COUNTIF('Agenda visitas'!$U$2:$U$101,"Próxima")+COUNTIF('Agenda visitas'!$U$2:$U$101,"Planificada")
A8: Potencial total (€) | B8: =SUM('Agenda visitas'!$Q$2:$Q$101)
A9: Venta ponderada (€) | B9: =SUM('Agenda visitas'!$S$2:$S$101)
A10: Probabilidad media | B10: =IFERROR(AVERAGE('Agenda visitas'!$R$2:$R$101),0)
A12: Zona | B12: Número de visitas | C12: Visitas realizadas | D12: Potencial (€) | E12: Venta ponderada (€) | F12: % del potencial total | H12: Estado | I12: Número de visitas
A13: Centro | B13: =COUNTIF('Agenda visitas'!$I$2:$I$101,A13) | C13: =COUNTIFS('Agenda visitas'!$I$2:$I$101,A13,'Agenda visitas'!$L$2:$L$101,"Realizada") | D13: =SUMIF('Agenda visitas'!$I$2:$I$101,A13,'Agenda visitas'!$Q$2:$Q$101) | E13: =SUMIF('Agenda visitas'!$I$2:$I$101,A13,'Agenda visitas'!$S$2:$S$101) | F13: =IFERROR(D13/$D$18,0) | H13: Planificada | I13: =COUNTIF('Agenda visitas'!$L$2:$L$101,H13)
A14: Este | B14: =COUNTIF('Agenda visitas'!$I$2:$I$101,A14) | C14: =COUNTIFS('Agenda visitas'!$I$2:$I$101,A14,'Agenda visitas'!$L$2:$L$101,"Realizada") | D14: =SUMIF('Agenda visitas'!$I$2:$I$101,A14,'Agenda visitas'!$Q$2:$Q$101) | E14: =SUMIF('Agenda visitas'!$I$2:$I$101,A14,'Agenda visitas'!$S$2:$S$101) | F14: =IFERROR(D14/$D$18,0) | H14: Realizada | I14: =COUNTIF('Agenda visitas'!$L$2:$L$101,H14)
A15: Levante | B15: =COUNTIF('Agenda visitas'!$I$2:$I$101,A15) | C15: =COUNTIFS('Agenda visitas'!$I$2:$I$101,A15,'Agenda visitas'!$L$2:$L$101,"Realizada") | D15: =SUMIF('Agenda visitas'!$I$2:$I$101,A15,'Agenda visitas'!$Q$2:$Q$101) | E15: =SUMIF('Agenda visitas'!$I$2:$I$101,A15,'Agenda visitas'!$S$2:$S$101) | F15: =IFERROR(D15/$D$18,0) | H15: Cancelada | I15: =COUNTIF('Agenda visitas'!$L$2:$L$101,H15)
A16: Sur | B16: =COUNTIF('Agenda visitas'!$I$2:$I$101,A16) | C16: =COUNTIFS('Agenda visitas'!$I$2:$I$101,A16,'Agenda visitas'!$L$2:$L$101,"Realizada") | D16: =SUMIF('Agenda visitas'!$I$2:$I$101,A16,'Agenda visitas'!$Q$2:$Q$101) | E16: =SUMIF('Agenda visitas'!$I$2:$I$101,A16,'Agenda visitas'!$S$2:$S$101) | F16: =IFERROR(D16/$D$18,0) | H16: Reprogramar | I16: =COUNTIF('Agenda visitas'!$L$2:$L$101,H16)
A17: Norte | B17: =COUNTIF('Agenda visitas'!$I$2:$I$101,A17) | C17: =COUNTIFS('Agenda visitas'!$I$2:$I$101,A17,'Agenda visitas'!$L$2:$L$101,"Realizada") | D17: =SUMIF('Agenda visitas'!$I$2:$I$101,A17,'Agenda visitas'!$Q$2:$Q$101) | E17: =SUMIF('Agenda visitas'!$I$2:$I$101,A17,'Agenda visitas'!$S$2:$S$101) | F17: =IFERROR(D17/$D$18,0)
A18: Total | B18: =SUM(B13:B17) | C18: =SUM(C13:C17) | D18: =SUM(D13:D17) | E18: =SUM(E13:E17) | F18: =SUM(F13:F17)

Sheet Listas
A1: Ciudad | B1: Zona | D1: Estado | E1: Prioridad | F1: Tipo de visita | G1: Comercial
A2: Madrid | B2: Centro | D2: Planificada | E2: Alta | F2: Primera visita | G2: Lucía
A3: Barcelona | B3: Este | D3: Realizada | E3: Media | F3: Seguimiento | G3: Martín
A4: Valencia | B4: Levante | D4: Cancelada | E4: Baja | F4: Renovación | G4: Sofía
A5: Sevilla | B5: Sur | D5: Reprogramar | F5: Presentación de propuesta | G5: Hugo
A6: Zaragoza | B6: Norte | G6: Marta
A7: Málaga | B7: Sur | G7: Pablo
A8: Bilbao | B8: Norte | G8: Carmen
A9: Murcia | B9: Levante | G9: Javier
A10: Alicante | B10: Levante | G10: Laura
A11: Granada | B11: Sur
A14: Uso de la plantilla
A15: Introduzca nuevas visitas en la hoja Agenda visitas.
A16: No sobrescriba las columnas calculadas: Zona comercial, Venta ponderada, Días hasta la visita y Alerta.
A17: Revise semanalmente las visitas con alerta y actualice la próxima acción.

Sheet Instrucciones
A1: Guía de uso — Agenda de visitas comerciales por zona
A3: Hoja | B3: Finalidad | C3: Indicaciones principales
A4: Agenda visitas | B4: Planificación y seguimiento diario de visitas. | C4: Complete las celdas amarillas. Las columnas Zona comercial, Venta ponderada, Días hasta la visita y Alerta se calculan automáticamente.
A5: Resumen | B5: Visión ejecutiva de actividad, potencial y resultados. | C5: Revise los indicadores y gráficos por zona para priorizar el seguimiento comercial.
A6: Listas | B6: Valores auxiliares para búsquedas y listas desplegables. | C6: Añada ciudades, zonas, comerciales o valores de validación cuando sea necesario, manteniendo la estructura de cada lista.
A8: Procedimiento semanal recomendado
A9: 1. Filtre la agenda por la columna Alerta y atienda primero las visitas vencidas y próximas.
A10: 2. Actualice el estado, el resultado de la visita y la próxima acción tras cada contacto.
A11: 3. Revise el potencial y la probabilidad para mantener actualizada la venta ponderada.
A12: 4. Consulte el Resumen para equilibrar la actividad comercial entre las distintas zonas.
A15: Leyenda visual
A16: Celdas amarillas | B16: Datos de entrada manual
A17: Estado realizado | B17: Visita completada
A18: Alerta roja | B18: Visita vencida
A19: Alerta amarilla | B19: Visita próxima
