Workbook

Sheet Facturación
A1: N.º factura | B1: Fecha | C1: Cliente | D1: Ciudad | E1: Sector | F1: Base imponible (€) | G1: Tipo IVA | H1: IVA (€) | I1: Retención IRPF (%) | J1: IRPF (€) | K1: Total factura (€) | L1: Estado | M1: Días vencidos | N1: Facturación neta (€)
A2: F2026-001 | B2: 46047 | C2: Lucía Fernández | D2: Madrid | E2: Consultoría | F2: 12500 | G2: 0.21 | H2: =IF(OR(F2="",G2=""),"",F2*G2) | I2: 0.15 | J2: =IF(OR(F2="",I2=""),"",F2*I2) | K2: =IF(OR(F2="",H2=""),"",F2+H2) | L2: Pagada | M2: =IF(OR(B2="",L2=""),"",IF(L2="Pagada",0,MAX(0,TODAY()-B2-30))) | N2: =IF(OR(K2="",J2=""),"",K2-J2)
A3: F2026-002 | B3: 46077 | C3: Martín López | D3: Barcelona | E3: Tecnología | F3: 9800 | G3: 0.21 | H3: =IF(OR(F3="",G3=""),"",F3*G3) | I3: 0 | J3: =IF(OR(F3="",I3=""),"",F3*I3) | K3: =IF(OR(F3="",H3=""),"",F3+H3) | L3: Pagada | M3: =IF(OR(B3="",L3=""),"",IF(L3="Pagada",0,MAX(0,TODAY()-B3-30))) | N3: =IF(OR(K3="",J3=""),"",K3-J3)
A4: F2026-003 | B4: 46107 | C4: Sofía García | D4: Valencia | E4: Comercio | F4: 7350 | G4: 0.1 | H4: =IF(OR(F4="",G4=""),"",F4*G4) | I4: 0.15 | J4: =IF(OR(F4="",I4=""),"",F4*I4) | K4: =IF(OR(F4="",H4=""),"",F4+H4) | L4: Vencida | M4: =IF(OR(B4="",L4=""),"",IF(L4="Pagada",0,MAX(0,TODAY()-B4-30))) | N4: =IF(OR(K4="",J4=""),"",K4-J4)
A5: F2026-004 | B5: 46137 | C5: Hugo Martínez | D5: Sevilla | E5: Construcción | F5: 11200 | G5: 0.21 | H5: =IF(OR(F5="",G5=""),"",F5*G5) | I5: 0 | J5: =IF(OR(F5="",I5=""),"",F5*I5) | K5: =IF(OR(F5="",H5=""),"",F5+H5) | L5: Pendiente | M5: =IF(OR(B5="",L5=""),"",IF(L5="Pagada",0,MAX(0,TODAY()-B5-30))) | N5: =IF(OR(K5="",J5=""),"",K5-J5)
A6: F2026-005 | B6: 46167 | C6: Marta Sánchez | D6: Zaragoza | E6: Servicios profesionales | F6: 6800 | G6: 0.21 | H6: =IF(OR(F6="",G6=""),"",F6*G6) | I6: 0.15 | J6: =IF(OR(F6="",I6=""),"",F6*I6) | K6: =IF(OR(F6="",H6=""),"",F6+H6) | L6: Pagada | M6: =IF(OR(B6="",L6=""),"",IF(L6="Pagada",0,MAX(0,TODAY()-B6-30))) | N6: =IF(OR(K6="",J6=""),"",K6-J6)
A7: F2026-006 | B7: 46197 | C7: Pablo Romero | D7: Málaga | E7: Hostelería | F7: 4200 | G7: 0.1 | H7: =IF(OR(F7="",G7=""),"",F7*G7) | I7: 0 | J7: =IF(OR(F7="",I7=""),"",F7*I7) | K7: =IF(OR(F7="",H7=""),"",F7+H7) | L7: Vencida | M7: =IF(OR(B7="",L7=""),"",IF(L7="Pagada",0,MAX(0,TODAY()-B7-30))) | N7: =IF(OR(K7="",J7=""),"",K7-J7)
A8: F2026-007 | B8: 46217 | C8: Carmen Navarro | D8: Bilbao | E8: Industria | F8: 8750 | G8: 0.21 | H8: =IF(OR(F8="",G8=""),"",F8*G8) | I8: 0.15 | J8: =IF(OR(F8="",I8=""),"",F8*I8) | K8: =IF(OR(F8="",H8=""),"",F8+H8) | L8: Pagada | M8: =IF(OR(B8="",L8=""),"",IF(L8="Pagada",0,MAX(0,TODAY()-B8-30))) | N8: =IF(OR(K8="",J8=""),"",K8-J8)
A9: F2026-008 | B9: 46232 | C9: Javier Torres | D9: Murcia | E9: Logística | F9: 5600 | G9: 0.21 | H9: =IF(OR(F9="",G9=""),"",F9*G9) | I9: 0 | J9: =IF(OR(F9="",I9=""),"",F9*I9) | K9: =IF(OR(F9="",H9=""),"",F9+H9) | L9: Vencida | M9: =IF(OR(B9="",L9=""),"",IF(L9="Pagada",0,MAX(0,TODAY()-B9-30))) | N9: =IF(OR(K9="",J9=""),"",K9-J9)
A10: F2026-009 | B10: 46252 | C10: Laura Jiménez | D10: Alicante | E10: Marketing | F10: 3150 | G10: 0.21 | H10: =IF(OR(F10="",G10=""),"",F10*G10) | I10: 0.15 | J10: =IF(OR(F10="",I10=""),"",F10*I10) | K10: =IF(OR(F10="",H10=""),"",F10+H10) | L10: Pendiente | M10: =IF(OR(B10="",L10=""),"",IF(L10="Pagada",0,MAX(0,TODAY()-B10-30))) | N10: =IF(OR(K10="",J10=""),"",K10-J10)
A11: F2026-010 | B11: 46262 | C11: Álvaro Ruiz | D11: Granada | E11: Formación | F11: 2200 | G11: 0.1 | H11: =IF(OR(F11="",G11=""),"",F11*G11) | I11: 0 | J11: =IF(OR(F11="",I11=""),"",F11*I11) | K11: =IF(OR(F11="",H11=""),"",F11+H11) | L11: Pendiente | M11: =IF(OR(B11="",L11=""),"",IF(L11="Pagada",0,MAX(0,TODAY()-B11-30))) | N11: =IF(OR(K11="",J11=""),"",K11-J11)
H12: =IF(OR(F12="",G12=""),"",F12*G12) | J12: =IF(OR(F12="",I12=""),"",F12*I12) | K12: =IF(OR(F12="",H12=""),"",F12+H12) | M12: =IF(OR(B12="",L12=""),"",IF(L12="Pagada",0,MAX(0,TODAY()-B12-30))) | N12: =IF(OR(K12="",J12=""),"",K12-J12)
H13: =IF(OR(F13="",G13=""),"",F13*G13) | J13: =IF(OR(F13="",I13=""),"",F13*I13) | K13: =IF(OR(F13="",H13=""),"",F13+H13) | M13: =IF(OR(B13="",L13=""),"",IF(L13="Pagada",0,MAX(0,TODAY()-B13-30))) | N13: =IF(OR(K13="",J13=""),"",K13-J13)
H14: =IF(OR(F14="",G14=""),"",F14*G14) | J14: =IF(OR(F14="",I14=""),"",F14*I14) | K14: =IF(OR(F14="",H14=""),"",F14+H14) | M14: =IF(OR(B14="",L14=""),"",IF(L14="Pagada",0,MAX(0,TODAY()-B14-30))) | N14: =IF(OR(K14="",J14=""),"",K14-J14)
H15: =IF(OR(F15="",G15=""),"",F15*G15) | J15: =IF(OR(F15="",I15=""),"",F15*I15) | K15: =IF(OR(F15="",H15=""),"",F15+H15) | M15: =IF(OR(B15="",L15=""),"",IF(L15="Pagada",0,MAX(0,TODAY()-B15-30))) | N15: =IF(OR(K15="",J15=""),"",K15-J15)
H16: =IF(OR(F16="",G16=""),"",F16*G16) | J16: =IF(OR(F16="",I16=""),"",F16*I16) | K16: =IF(OR(F16="",H16=""),"",F16+H16) | M16: =IF(OR(B16="",L16=""),"",IF(L16="Pagada",0,MAX(0,TODAY()-B16-30))) | N16: =IF(OR(K16="",J16=""),"",K16-J16)
H17: =IF(OR(F17="",G17=""),"",F17*G17) | J17: =IF(OR(F17="",I17=""),"",F17*I17) | K17: =IF(OR(F17="",H17=""),"",F17+H17) | M17: =IF(OR(B17="",L17=""),"",IF(L17="Pagada",0,MAX(0,TODAY()-B17-30))) | N17: =IF(OR(K17="",J17=""),"",K17-J17)
H18: =IF(OR(F18="",G18=""),"",F18*G18) | J18: =IF(OR(F18="",I18=""),"",F18*I18) | K18: =IF(OR(F18="",H18=""),"",F18+H18) | M18: =IF(OR(B18="",L18=""),"",IF(L18="Pagada",0,MAX(0,TODAY()-B18-30))) | N18: =IF(OR(K18="",J18=""),"",K18-J18)
H19: =IF(OR(F19="",G19=""),"",F19*G19) | J19: =IF(OR(F19="",I19=""),"",F19*I19) | K19: =IF(OR(F19="",H19=""),"",F19+H19) | M19: =IF(OR(B19="",L19=""),"",IF(L19="Pagada",0,MAX(0,TODAY()-B19-30))) | N19: =IF(OR(K19="",J19=""),"",K19-J19)
H20: =IF(OR(F20="",G20=""),"",F20*G20) | J20: =IF(OR(F20="",I20=""),"",F20*I20) | K20: =IF(OR(F20="",H20=""),"",F20+H20) | M20: =IF(OR(B20="",L20=""),"",IF(L20="Pagada",0,MAX(0,TODAY()-B20-30))) | N20: =IF(OR(K20="",J20=""),"",K20-J20)
H21: =IF(OR(F21="",G21=""),"",F21*G21) | J21: =IF(OR(F21="",I21=""),"",F21*I21) | K21: =IF(OR(F21="",H21=""),"",F21+H21) | M21: =IF(OR(B21="",L21=""),"",IF(L21="Pagada",0,MAX(0,TODAY()-B21-30))) | N21: =IF(OR(K21="",J21=""),"",K21-J21)
H22: =IF(OR(F22="",G22=""),"",F22*G22) | J22: =IF(OR(F22="",I22=""),"",F22*I22) | K22: =IF(OR(F22="",H22=""),"",F22+H22) | M22: =IF(OR(B22="",L22=""),"",IF(L22="Pagada",0,MAX(0,TODAY()-B22-30))) | N22: =IF(OR(K22="",J22=""),"",K22-J22)
H23: =IF(OR(F23="",G23=""),"",F23*G23) | J23: =IF(OR(F23="",I23=""),"",F23*I23) | K23: =IF(OR(F23="",H23=""),"",F23+H23) | M23: =IF(OR(B23="",L23=""),"",IF(L23="Pagada",0,MAX(0,TODAY()-B23-30))) | N23: =IF(OR(K23="",J23=""),"",K23-J23)
... H101: =IF(OR(F101="",G101=""),"",F101*G101) | J101: =IF(OR(F101="",I101=""),"",F101*I101) | K101: =IF(OR(F101="",H101=""),"",F101+H101) | M101: =IF(OR(B101="",L101=""),"",IF(L101="Pagada",0,MAX(0,TODAY()-B101-30))) | N101: =IF(OR(K101="",J101=""),"",K101-J101)
A102: TOTALES | F102: =SUM(F2:F101) | H102: =SUM(H2:H101) | J102: =SUM(J2:J101) | K102: =SUM(K2:K101) | N102: =SUM(N2:N101)
A103: MEDIA FACTURA | K103: =IFERROR(AVERAGE(K2:K101),0)

Sheet Ranking
A1: Ranking de clientes por facturación neta
A3: Facturación total | C3: Cliente número 1 | E3: Ticket medio | G3: Número de clientes
A4: =SUM($E$9:$E$18) | C4: =IFERROR(INDEX($B$9:$B$18,MATCH(1,$A$9:$A$18,0)),"") | E4: =IFERROR(AVERAGE($E$9:$E$18),0) | G4: =COUNTIF($B$9:$B$18,"<>")
A5: % facturado por los tres primeros
A6: =IFERROR(SUMIF($A$9:$A$18,"<=3",$E$9:$E$18)/SUM($E$9:$E$18),0)
A8: Posición | B8: Cliente | C8: Ciudad | D8: Número de facturas | E8: Facturación neta (€) | F8: % sobre total | G8: Ticket medio (€) | H8: Estado comercial
A9: =IF(E9="","",RANK(E9,$E$9:$E$18,0)) | B9: Hugo Martínez | C9: =IF(B9="","",IFERROR(VLOOKUP(B9,'Facturación'!$C$2:$D$101,2,FALSE),"Sin datos")) | D9: =IF(B9="","",COUNTIF('Facturación'!$C$2:$C$101,B9)) | E9: =IF(B9="","",SUMIF('Facturación'!$C$2:$C$101,B9,'Facturación'!$N$2:$N$101)) | F9: =IF(E9="","",IFERROR(E9/SUM($E$9:$E$18),0)) | G9: =IF(OR(E9="",D9=""),"",IFERROR(E9/D9,0)) | H9: =IF(E9="","",IF(E9>=10000,"Cliente estratégico",IF(E9>=5000,"Cliente recurrente","Cliente ocasional")))
A10: =IF(E10="","",RANK(E10,$E$9:$E$18,0)) | B10: Lucía Fernández | C10: =IF(B10="","",IFERROR(VLOOKUP(B10,'Facturación'!$C$2:$D$101,2,FALSE),"Sin datos")) | D10: =IF(B10="","",COUNTIF('Facturación'!$C$2:$C$101,B10)) | E10: =IF(B10="","",SUMIF('Facturación'!$C$2:$C$101,B10,'Facturación'!$N$2:$N$101)) | F10: =IF(E10="","",IFERROR(E10/SUM($E$9:$E$18),0)) | G10: =IF(OR(E10="",D10=""),"",IFERROR(E10/D10,0)) | H10: =IF(E10="","",IF(E10>=10000,"Cliente estratégico",IF(E10>=5000,"Cliente recurrente","Cliente ocasional")))
A11: =IF(E11="","",RANK(E11,$E$9:$E$18,0)) | B11: Martín López | C11: =IF(B11="","",IFERROR(VLOOKUP(B11,'Facturación'!$C$2:$D$101,2,FALSE),"Sin datos")) | D11: =IF(B11="","",COUNTIF('Facturación'!$C$2:$C$101,B11)) | E11: =IF(B11="","",SUMIF('Facturación'!$C$2:$C$101,B11,'Facturación'!$N$2:$N$101)) | F11: =IF(E11="","",IFERROR(E11/SUM($E$9:$E$18),0)) | G11: =IF(OR(E11="",D11=""),"",IFERROR(E11/D11,0)) | H11: =IF(E11="","",IF(E11>=10000,"Cliente estratégico",IF(E11>=5000,"Cliente recurrente","Cliente ocasional")))
A12: =IF(E12="","",RANK(E12,$E$9:$E$18,0)) | B12: Carmen Navarro | C12: =IF(B12="","",IFERROR(VLOOKUP(B12,'Facturación'!$C$2:$D$101,2,FALSE),"Sin datos")) | D12: =IF(B12="","",COUNTIF('Facturación'!$C$2:$C$101,B12)) | E12: =IF(B12="","",SUMIF('Facturación'!$C$2:$C$101,B12,'Facturación'!$N$2:$N$101)) | F12: =IF(E12="","",IFERROR(E12/SUM($E$9:$E$18),0)) | G12: =IF(OR(E12="",D12=""),"",IFERROR(E12/D12,0)) | H12: =IF(E12="","",IF(E12>=10000,"Cliente estratégico",IF(E12>=5000,"Cliente recurrente","Cliente ocasional")))
A13: =IF(E13="","",RANK(E13,$E$9:$E$18,0)) | B13: Marta Sánchez | C13: =IF(B13="","",IFERROR(VLOOKUP(B13,'Facturación'!$C$2:$D$101,2,FALSE),"Sin datos")) | D13: =IF(B13="","",COUNTIF('Facturación'!$C$2:$C$101,B13)) | E13: =IF(B13="","",SUMIF('Facturación'!$C$2:$C$101,B13,'Facturación'!$N$2:$N$101)) | F13: =IF(E13="","",IFERROR(E13/SUM($E$9:$E$18),0)) | G13: =IF(OR(E13="",D13=""),"",IFERROR(E13/D13,0)) | H13: =IF(E13="","",IF(E13>=10000,"Cliente estratégico",IF(E13>=5000,"Cliente recurrente","Cliente ocasional")))
A14: =IF(E14="","",RANK(E14,$E$9:$E$18,0)) | B14: Sofía García | C14: =IF(B14="","",IFERROR(VLOOKUP(B14,'Facturación'!$C$2:$D$101,2,FALSE),"Sin datos")) | D14: =IF(B14="","",COUNTIF('Facturación'!$C$2:$C$101,B14)) | E14: =IF(B14="","",SUMIF('Facturación'!$C$2:$C$101,B14,'Facturación'!$N$2:$N$101)) | F14: =IF(E14="","",IFERROR(E14/SUM($E$9:$E$18),0)) | G14: =IF(OR(E14="",D14=""),"",IFERROR(E14/D14,0)) | H14: =IF(E14="","",IF(E14>=10000,"Cliente estratégico",IF(E14>=5000,"Cliente recurrente","Cliente ocasional")))
A15: =IF(E15="","",RANK(E15,$E$9:$E$18,0)) | B15: Javier Torres | C15: =IF(B15="","",IFERROR(VLOOKUP(B15,'Facturación'!$C$2:$D$101,2,FALSE),"Sin datos")) | D15: =IF(B15="","",COUNTIF('Facturación'!$C$2:$C$101,B15)) | E15: =IF(B15="","",SUMIF('Facturación'!$C$2:$C$101,B15,'Facturación'!$N$2:$N$101)) | F15: =IF(E15="","",IFERROR(E15/SUM($E$9:$E$18),0)) | G15: =IF(OR(E15="",D15=""),"",IFERROR(E15/D15,0)) | H15: =IF(E15="","",IF(E15>=10000,"Cliente estratégico",IF(E15>=5000,"Cliente recurrente","Cliente ocasional")))
A16: =IF(E16="","",RANK(E16,$E$9:$E$18,0)) | B16: Pablo Romero | C16: =IF(B16="","",IFERROR(VLOOKUP(B16,'Facturación'!$C$2:$D$101,2,FALSE),"Sin datos")) | D16: =IF(B16="","",COUNTIF('Facturación'!$C$2:$C$101,B16)) | E16: =IF(B16="","",SUMIF('Facturación'!$C$2:$C$101,B16,'Facturación'!$N$2:$N$101)) | F16: =IF(E16="","",IFERROR(E16/SUM($E$9:$E$18),0)) | G16: =IF(OR(E16="",D16=""),"",IFERROR(E16/D16,0)) | H16: =IF(E16="","",IF(E16>=10000,"Cliente estratégico",IF(E16>=5000,"Cliente recurrente","Cliente ocasional")))
A17: =IF(E17="","",RANK(E17,$E$9:$E$18,0)) | B17: Laura Jiménez | C17: =IF(B17="","",IFERROR(VLOOKUP(B17,'Facturación'!$C$2:$D$101,2,FALSE),"Sin datos")) | D17: =IF(B17="","",COUNTIF('Facturación'!$C$2:$C$101,B17)) | E17: =IF(B17="","",SUMIF('Facturación'!$C$2:$C$101,B17,'Facturación'!$N$2:$N$101)) | F17: =IF(E17="","",IFERROR(E17/SUM($E$9:$E$18),0)) | G17: =IF(OR(E17="",D17=""),"",IFERROR(E17/D17,0)) | H17: =IF(E17="","",IF(E17>=10000,"Cliente estratégico",IF(E17>=5000,"Cliente recurrente","Cliente ocasional")))
A18: =IF(E18="","",RANK(E18,$E$9:$E$18,0)) | B18: Álvaro Ruiz | C18: =IF(B18="","",IFERROR(VLOOKUP(B18,'Facturación'!$C$2:$D$101,2,FALSE),"Sin datos")) | D18: =IF(B18="","",COUNTIF('Facturación'!$C$2:$C$101,B18)) | E18: =IF(B18="","",SUMIF('Facturación'!$C$2:$C$101,B18,'Facturación'!$N$2:$N$101)) | F18: =IF(E18="","",IFERROR(E18/SUM($E$9:$E$18),0)) | G18: =IF(OR(E18="",D18=""),"",IFERROR(E18/D18,0)) | H18: =IF(E18="","",IF(E18>=10000,"Cliente estratégico",IF(E18>=5000,"Cliente recurrente","Cliente ocasional")))

Sheet Instrucciones
A1: Guía de uso del ranking de clientes por facturación
A3: Paso | B3: Instrucción | C3: Finalidad
A4: 1 | B4: Introducir nuevas facturas en la hoja Facturación utilizando las filas disponibles. | C4: Mantener actualizada la base de datos de cobros.
A5: 2 | B5: Mantener el número de factura correlativo y registrar la fecha real de emisión. | C5: Facilitar el control documental y contable.
A6: 3 | B6: Revisar el tipo de IVA, la retención de IRPF y el estado de cobro antes de cerrar cada factura. | C6: Evitar errores en el cálculo de importes y vencimientos.
A7: 4 | B7: Consultar la hoja Ranking para priorizar clientes según su facturación neta. | C7: Apoyar la planificación comercial y la atención a clientes clave.
A8: 5 | B8: Utilizar los días vencidos y el estado de cobro para el seguimiento de tesorería. | C8: Identificar facturas pendientes o vencidas con rapidez.
A9: 6 | B9: Recordar obligaciones habituales: modelo 303 de IVA, modelo 347 cuando corresponda, registro de facturas y cumplimiento del RGPD/LOPDGDD. | C9: Mantener una gestión administrativa responsable y ordenada.
